BEGIN:VCALENDAR
VERSION:2.0
PRODID:-//Gastlosestìmmeg - ECPv6.15.20//NONSGML v1.0//EN
CALSCALE:GREGORIAN
METHOD:PUBLISH
X-ORIGINAL-URL:https://gastlosestimmeg.ch
X-WR-CALDESC:Veranstaltungen für Gastlosestìmmeg
REFRESH-INTERVAL;VALUE=DURATION:PT1H
X-Robots-Tag:noindex
X-PUBLISHED-TTL:PT1H
BEGIN:VTIMEZONE
TZID:UTC
BEGIN:STANDARD
TZOFFSETFROM:+0000
TZOFFSETTO:+0000
TZNAME:UTC
DTSTART:20230101T000000
END:STANDARD
END:VTIMEZONE
BEGIN:VEVENT
DTSTART;TZID=UTC:20240427T200000
DTEND;TZID=UTC:20240427T220000
DTSTAMP:20260426T041921
CREATED:20231209T093934Z
LAST-MODIFIED:20231209T093934Z
UID:1085-1714248000-1714255200@gastlosestimmeg.ch
SUMMARY:Kinderjodler - Jodlerabend JK Chörblifluh
DESCRIPTION:Nach langer Pause organisiert der Jodlerklub Chörbliflueh wieder seinen traditionellen Jodlerabend. Uns freut es\, dass dazu auch die Kinderjodler De Bärge zue eingeladen wurden.
URL:https://gastlosestimmeg.ch/auftritt/kinderjodler-jodlerabend-jk-choerblifluh/
LOCATION:Schulaussaal Jaun\, Dorfstrasse 8\, Jaun\, Freiburg\, 1656\, Schweiz
END:VEVENT
END:VCALENDAR