BEGIN:VCALENDAR
VERSION:2.0
PRODID:-//Gastlosestìmmeg - ECPv6.15.20//NONSGML v1.0//EN
CALSCALE:GREGORIAN
METHOD:PUBLISH
X-ORIGINAL-URL:https://gastlosestimmeg.ch
X-WR-CALDESC:Veranstaltungen für Gastlosestìmmeg
REFRESH-INTERVAL;VALUE=DURATION:PT1H
X-Robots-Tag:noindex
X-PUBLISHED-TTL:PT1H
BEGIN:VTIMEZONE
TZID:UTC
BEGIN:STANDARD
TZOFFSETFROM:+0000
TZOFFSETTO:+0000
TZNAME:UTC
DTSTART:20230101T000000
END:STANDARD
END:VTIMEZONE
BEGIN:VEVENT
DTSTART;VALUE=DATE:20240519
DTEND;VALUE=DATE:20240520
DTSTAMP:20260426T023416
CREATED:20240503T155456Z
LAST-MODIFIED:20240503T160516Z
UID:1570-1716076800-1716163199@gastlosestimmeg.ch
SUMMARY:Zu Gast bei der : Giron des Musiques gruériennes
DESCRIPTION:Am Sonntag den 19. Mai werden wir mit einer Gruppe aus Nachwuchsörgeler\, Gastlosekläng- und Kinderjodler am Umzug der Giron des Musiques gruériennes in Riaz mitlaufen. \nWir freuen uns auf ein sehr vielfältig\, musikalisches Wochenende.
URL:https://gastlosestimmeg.ch/auftritt/zu-gast-bei-der-giron-des-musiques-grueriennes/
CATEGORIES:Gastlosestìmmeg,Umzug
ATTACH;FMTTYPE=image/jpeg:https://gastlosestimmeg.ch/wp-content/uploads/2024/03/logo-giron-musiques-riaz.jpg
END:VEVENT
END:VCALENDAR