BEGIN:VCALENDAR
VERSION:2.0
PRODID:-//Gastlosestìmmeg - ECPv6.15.20//NONSGML v1.0//EN
CALSCALE:GREGORIAN
METHOD:PUBLISH
X-ORIGINAL-URL:https://gastlosestimmeg.ch
X-WR-CALDESC:Veranstaltungen für Gastlosestìmmeg
REFRESH-INTERVAL;VALUE=DURATION:PT1H
X-Robots-Tag:noindex
X-PUBLISHED-TTL:PT1H
BEGIN:VTIMEZONE
TZID:UTC
BEGIN:STANDARD
TZOFFSETFROM:+0000
TZOFFSETTO:+0000
TZNAME:UTC
DTSTART:20230101T000000
END:STANDARD
END:VTIMEZONE
BEGIN:VEVENT
DTSTART;TZID=UTC:20240602T130000
DTEND;TZID=UTC:20240602T170000
DTSTAMP:20260426T010139
CREATED:20240517T105749Z
LAST-MODIFIED:20240519T095624Z
UID:1597-1717333200-1717347600@gastlosestimmeg.ch
SUMMARY:Gmüetlecha Tag em Ritzli met de Gastlosekläng
DESCRIPTION:Wir möchten uns herzlich bei Annie Fallegger\, einem geschätzten Mitglied der Jodlergruppe Gastlosekläng und zugleich der Gastgeberin im Bergrestaurant Ritzli\, für die Einladung bedanken. Es erwartet Sie ein gemütlicher Nachmittag inmitten der malerischen Berglandschaft\, untermalt von den harmonischen Klängen der Jodler. Wir empfehlen Ihnen wärmstens\, diese Gelegenheit für ein unvergessliches Erlebnis nicht zu verpassen. Kommen Sie vorbei und genießen Sie mit uns die Gastfreundschaft\, die köstlichen Speisen und die einzigartige Atmosphäre auf der Ritzli-Alm.
URL:https://gastlosestimmeg.ch/auftritt/gmueetlecha-tag-em-ritzli-met-de-gastloseklaeng/
LOCATION:Ritzli\, Ritzli\, Jaun\, Freiburg\, 1656
ATTACH;FMTTYPE=image/webp:https://gastlosestimmeg.ch/wp-content/uploads/2024/05/Logo-Ritzli-e1715942910561.webp
END:VEVENT
END:VCALENDAR