BEGIN:VCALENDAR
VERSION:2.0
PRODID:-//Gastlosestìmmeg - ECPv6.15.20//NONSGML v1.0//EN
CALSCALE:GREGORIAN
METHOD:PUBLISH
X-WR-CALNAME:Gastlosestìmmeg
X-ORIGINAL-URL:https://gastlosestimmeg.ch
X-WR-CALDESC:Veranstaltungen für Gastlosestìmmeg
REFRESH-INTERVAL;VALUE=DURATION:PT1H
X-Robots-Tag:noindex
X-PUBLISHED-TTL:PT1H
BEGIN:VTIMEZONE
TZID:UTC
BEGIN:STANDARD
TZOFFSETFROM:+0000
TZOFFSETTO:+0000
TZNAME:UTC
DTSTART:20230101T000000
END:STANDARD
END:VTIMEZONE
BEGIN:VEVENT
DTSTART;TZID=UTC:20241117T130000
DTEND;TZID=UTC:20241117T170000
DTSTAMP:20260425T153429
CREATED:20240911T062814Z
LAST-MODIFIED:20240911T062814Z
UID:1713-1731848400-1731862800@gastlosestimmeg.ch
SUMMARY:Theaternachmittag Zweisimmen
DESCRIPTION:
URL:https://gastlosestimmeg.ch/auftritt/theaternachmittag-zweisimmen/
LOCATION:Theatersaal Zweisimmen
CATEGORIES:Kinderjodler
END:VEVENT
END:VCALENDAR