BEGIN:VCALENDAR
VERSION:2.0
PRODID:-//Gastlosestìmmeg - ECPv6.15.20//NONSGML v1.0//EN
CALSCALE:GREGORIAN
METHOD:PUBLISH
X-ORIGINAL-URL:https://gastlosestimmeg.ch
X-WR-CALDESC:Veranstaltungen für Gastlosestìmmeg
REFRESH-INTERVAL;VALUE=DURATION:PT1H
X-Robots-Tag:noindex
X-PUBLISHED-TTL:PT1H
BEGIN:VTIMEZONE
TZID:UTC
BEGIN:STANDARD
TZOFFSETFROM:+0000
TZOFFSETTO:+0000
TZNAME:UTC
DTSTART:20230101T000000
END:STANDARD
END:VTIMEZONE
BEGIN:VEVENT
DTSTART;TZID=UTC:20241129T180000
DTEND;TZID=UTC:20241129T220000
DTSTAMP:20260425T153529
CREATED:20241106T072711Z
LAST-MODIFIED:20241106T072711Z
UID:1786-1732903200-1732917600@gastlosestimmeg.ch
SUMMARY:Weihnachtsmarkt Jaun
DESCRIPTION:
URL:https://gastlosestimmeg.ch/auftritt/weihnachtsmarkt-jaun-2/
CATEGORIES:Gastlosestìmmeg
END:VEVENT
END:VCALENDAR