BEGIN:VCALENDAR
VERSION:2.0
PRODID:-//Gastlosestìmmeg - ECPv6.15.20//NONSGML v1.0//EN
CALSCALE:GREGORIAN
METHOD:PUBLISH
X-WR-CALNAME:Gastlosestìmmeg
X-ORIGINAL-URL:https://gastlosestimmeg.ch
X-WR-CALDESC:Veranstaltungen für Gastlosestìmmeg
REFRESH-INTERVAL;VALUE=DURATION:PT1H
X-Robots-Tag:noindex
X-PUBLISHED-TTL:PT1H
BEGIN:VTIMEZONE
TZID:UTC
BEGIN:STANDARD
TZOFFSETFROM:+0000
TZOFFSETTO:+0000
TZNAME:UTC
DTSTART:20230101T000000
END:STANDARD
END:VTIMEZONE
BEGIN:VEVENT
DTSTART;TZID=UTC:20241207T193000
DTEND;TZID=UTC:20241207T210000
DTSTAMP:20260425T153443
CREATED:20240626T185944Z
LAST-MODIFIED:20241203T173304Z
UID:1640-1733599800-1733605200@gastlosestimmeg.ch
SUMMARY:Konzert Bodäständix im Cantorama
DESCRIPTION:Am 7. Dezember laden wir Sie herzlich zu einem besonderen Abend im Cantorama ein\, wo die junge Innerschweizer Formation Bodäständix mit 10 Musikantinnen und Musikanten auftritt. Mit stilgetreuer Ländlermusik und traditionellem Tanzstil konnte Bodäständix das Publikum schon bei einigen Aufführungen begeistern. \nUnter diesem Link können Sie bereits Ihr Ticket reservieren. \n 
URL:https://gastlosestimmeg.ch/auftritt/cantorama-bodaestaendix-2024/
LOCATION:Cantorama Jaun\, Alte Kirche\, Jaun\, Freiburg\, 1656
CATEGORIES:Gastlosestìmmeg
ATTACH;FMTTYPE=image/webp:https://gastlosestimmeg.ch/wp-content/uploads/2024/06/1ms09479-enhanced-nr-8FR0U0W8-FYMK598Z.webp
ORGANIZER;CN="Folkloreverein Gastlosest%C3%ACmmeg Jaun":MAILTO:info@gastlosestimmeg.ch
END:VEVENT
END:VCALENDAR