BEGIN:VCALENDAR
VERSION:2.0
PRODID:-//Gastlosestìmmeg - ECPv6.15.20//NONSGML v1.0//EN
CALSCALE:GREGORIAN
METHOD:PUBLISH
X-ORIGINAL-URL:https://gastlosestimmeg.ch
X-WR-CALDESC:Veranstaltungen für Gastlosestìmmeg
REFRESH-INTERVAL;VALUE=DURATION:PT1H
X-Robots-Tag:noindex
X-PUBLISHED-TTL:PT1H
BEGIN:VTIMEZONE
TZID:UTC
BEGIN:STANDARD
TZOFFSETFROM:+0000
TZOFFSETTO:+0000
TZNAME:UTC
DTSTART:20240101T000000
END:STANDARD
END:VTIMEZONE
BEGIN:VEVENT
DTSTART;TZID=UTC:20251031T200000
DTEND;TZID=UTC:20251031T230000
DTSTAMP:20260424T142633
CREATED:20250207T082843Z
LAST-MODIFIED:20251013T090028Z
UID:1912-1761940800-1761951600@gastlosestimmeg.ch
SUMMARY:Unterhaltungsabend mit dem Nachwuchs der Gastlosestìmmeg
DESCRIPTION:Wir laden Sie herzlich zu unserem Unterhaltungsabend mit dem Nachwuchs der Gastlosestìmmeg am 31. Oktober ein!
URL:https://gastlosestimmeg.ch/auftritt/unterhaltungsabend-2025-fr/
LOCATION:Schulaussaal Jaun\, Dorfstrasse 8\, Jaun\, Freiburg\, 1656\, Schweiz
CATEGORIES:Gastlosestìmmeg,JG Gastlosekläng,Kinderjodler
ATTACH;FMTTYPE=image/jpeg:https://gastlosestimmeg.ch/wp-content/uploads/2024/12/Samstag-24-Kinderjodler-2-scaled.jpg
ORGANIZER;CN="Folkloreverein Gastlosest%C3%ACmmeg Jaun":MAILTO:info@gastlosestimmeg.ch
END:VEVENT
END:VCALENDAR