BEGIN:VCALENDAR
VERSION:2.0
PRODID:-//Gastlosestìmmeg - ECPv6.15.20//NONSGML v1.0//EN
CALSCALE:GREGORIAN
METHOD:PUBLISH
X-ORIGINAL-URL:https://gastlosestimmeg.ch
X-WR-CALDESC:Veranstaltungen für Gastlosestìmmeg
REFRESH-INTERVAL;VALUE=DURATION:PT1H
X-Robots-Tag:noindex
X-PUBLISHED-TTL:PT1H
BEGIN:VTIMEZONE
TZID:UTC
BEGIN:STANDARD
TZOFFSETFROM:+0000
TZOFFSETTO:+0000
TZNAME:UTC
DTSTART:20240101T000000
END:STANDARD
END:VTIMEZONE
BEGIN:VEVENT
DTSTART;TZID=UTC:20251101T200000
DTEND;TZID=UTC:20251101T230000
DTSTAMP:20260424T142628
CREATED:20250207T083509Z
LAST-MODIFIED:20251013T090343Z
UID:1914-1762027200-1762038000@gastlosestimmeg.ch
SUMMARY:Unterhaltungsabend Gastlosestìmmeg
DESCRIPTION:Am 1. November findet wieder unser alljährlichen Unterhaltungsabend statt.
URL:https://gastlosestimmeg.ch/auftritt/unterhaltungsabend-gastlosestimmeg/
LOCATION:Schulaussaal Jaun\, Dorfstrasse 8\, Jaun\, Freiburg\, 1656\, Schweiz
CATEGORIES:Gastlosestìmmeg
ORGANIZER;CN="Folkloreverein Gastlosest%C3%ACmmeg Jaun":MAILTO:info@gastlosestimmeg.ch
END:VEVENT
END:VCALENDAR