BEGIN:VCALENDAR
VERSION:2.0
PRODID:-//Gastlosestìmmeg - ECPv6.15.20//NONSGML v1.0//EN
CALSCALE:GREGORIAN
METHOD:PUBLISH
X-ORIGINAL-URL:https://gastlosestimmeg.ch
X-WR-CALDESC:Veranstaltungen für Gastlosestìmmeg
REFRESH-INTERVAL;VALUE=DURATION:PT1H
X-Robots-Tag:noindex
X-PUBLISHED-TTL:PT1H
BEGIN:VTIMEZONE
TZID:UTC
BEGIN:STANDARD
TZOFFSETFROM:+0000
TZOFFSETTO:+0000
TZNAME:UTC
DTSTART:20250101T000000
END:STANDARD
END:VTIMEZONE
BEGIN:VEVENT
DTSTART;TZID=UTC:20260104T160000
DTEND;TZID=UTC:20260104T190000
DTSTAMP:20260424T095447
CREATED:20250207T084747Z
LAST-MODIFIED:20251230T102328Z
UID:1919-1767542400-1767553200@gastlosestimmeg.ch
SUMMARY:KKL Luzern
DESCRIPTION:Mit grosser Freude und ein wenig Stolz dürfen wir verkünden:Am 4. Januar 2026 treten wir im Rahmen des Neujahrskonzerts im KKL Luzern auf! \nEs ist uns eine Ehre\, Teil dieses besonderen Anlasses zu sein und unsere Musik an einem so renommierten Ort mit dem Publikum zu teilen. \n🎟️ Tickets und weitere Informationen gibt es direkt auf der Webseite des KKL Luzern. \n\nAnreise : \nDamit wir alle gemeinsam bequem nach Luzern reisen können\, organisieren wir eine Carfahrt ab Jaun. \nDie Anmeldefrist für die Carfahrt ist abgelaufen. Vielen Dank für Ihr Verständnis. \nKosten für die Carfahrt: \n\nPassivmitglieder des Vereins: CHF 15.–\nNichtmitglieder: CHF 30.–\nKinder (bis 16 Jahre): gratis\n\nWir freuen uns auf zahlreiche Mitreisende und einen musikalischen Start ins neue Jahr!
URL:https://gastlosestimmeg.ch/auftritt/kkl-luzern-2026/
LOCATION:KKL Luzern\, Europaplatz 1\, Luzern\, Luzern\, 6005\, Switzerland
CATEGORIES:JG Gastlosekläng
ATTACH;FMTTYPE=image/webp:https://gastlosestimmeg.ch/wp-content/uploads/2025/02/1749130413-ejv_njkonzert_2026_3840x2160px-scaled.webp
ORGANIZER;CN="EJV":MAILTO:zentralsekretariat@ejv.ch
END:VEVENT
END:VCALENDAR