BEGIN:VCALENDAR
VERSION:2.0
PRODID:-//Gastlosestìmmeg - ECPv6.15.20//NONSGML v1.0//EN
CALSCALE:GREGORIAN
METHOD:PUBLISH
X-ORIGINAL-URL:https://gastlosestimmeg.ch
X-WR-CALDESC:Veranstaltungen für Gastlosestìmmeg
REFRESH-INTERVAL;VALUE=DURATION:PT1H
X-Robots-Tag:noindex
X-PUBLISHED-TTL:PT1H
BEGIN:VTIMEZONE
TZID:UTC
BEGIN:STANDARD
TZOFFSETFROM:+0000
TZOFFSETTO:+0000
TZNAME:UTC
DTSTART:20250101T000000
END:STANDARD
END:VTIMEZONE
BEGIN:VEVENT
DTSTART;TZID=UTC:20261212T200000
DTEND;TZID=UTC:20261212T230000
DTSTAMP:20260424T164216
CREATED:20260203T091406Z
LAST-MODIFIED:20260203T091406Z
UID:2379-1797105600-1797116400@gastlosestimmeg.ch
SUMMARY:Unterhaltungsabend Folkloreverein Gastlosestimmeg in Charmey
DESCRIPTION:Am Samstag 12.12.2026 findet erstmals ein Unterhaltungsabend des Folklorevereins Gastlosestimmeg für das französischsprachige Publikum in Charmey statt.
URL:https://gastlosestimmeg.ch/auftritt/unterhaltungsabend-folkloreverein-gastlosestimmeg-in-charmey/
LOCATION:Restaurant L’Enclume\, Rue du centre 33\, 1637 Charmey
CATEGORIES:Gastlosestìmmeg,JG Gastlosekläng,Kinderjodler,Nachwuchsörgeler,Unterhaltungsabend
END:VEVENT
END:VCALENDAR