BEGIN:VCALENDAR
VERSION:2.0
PRODID:-//Gastlosestìmmeg - ECPv6.15.20//NONSGML v1.0//EN
CALSCALE:GREGORIAN
METHOD:PUBLISH
X-ORIGINAL-URL:https://gastlosestimmeg.ch
X-WR-CALDESC:Veranstaltungen für Gastlosestìmmeg
REFRESH-INTERVAL;VALUE=DURATION:PT1H
X-Robots-Tag:noindex
X-PUBLISHED-TTL:PT1H
BEGIN:VTIMEZONE
TZID:UTC
BEGIN:STANDARD
TZOFFSETFROM:+0000
TZOFFSETTO:+0000
TZNAME:UTC
DTSTART:20230101T000000
END:STANDARD
END:VTIMEZONE
BEGIN:VEVENT
DTSTART;TZID=UTC:20240801T180000
DTEND;TZID=UTC:20240801T230000
DTSTAMP:20260425T195831
CREATED:20240630T203316Z
LAST-MODIFIED:20240713T195217Z
UID:1653-1722535200-1722553200@gastlosestimmeg.ch
SUMMARY:Offizielle 1. Augustfeier der Gemeinde Jaun
DESCRIPTION:Ticketpreis Bahn (↔) : 22.- CHF (Magicpass Gratis) \nDieses Jahr organisieren wir zusammen mit dem Jugendverein die offizielle 1. Augustfeier der Gemeinde Jaun. Dazu laden wir Sie herzlich ins Berghaus in Jaun ein\, zu dem Sie bequem mit dem Sessellift gelangen. \nWir freuen uns darauf\, mit Ihnen den ersten August bei einem schönen Bergpanorama und einer geselligen Stubeta zu feiern. \nAnmeldung erwünscht (Formular unten) \nProgramm: \n\n\n\nAb 11:00 Uhr \n \nGrilladen (nur bei schönem Wetter) \nGrillades (uniquement par beau temps)\n\n\n18:00 Uhr \n \nEröffnung des Festanlasses \nOuverture de la manifestation festive\n\n\n18 :30 – 19:00 Uhr\nApero\n\n\n19 :30 Uhr \n \nEröffnungsansprache \nDiscours d’ouverture\n\n\n21 : 30 Uhr \n \nNationalhymne \nHymne national\n\n\n23:30 Uhr\nLetze Talfahrt mit Bergbahnen\n\n\nAb 23:30 Uhr\nShuttle\n\n\n\n\n\n\n\n  \n \n \n \n  \n \n \n  \n 
URL:https://gastlosestimmeg.ch/auftritt/augustfeier-2024/
LOCATION:Berghaus Gastlosen\, Jaun\, Freiburg\, 1656\, Schweiz
CATEGORIES:Gastlosestìmmeg,Stubeta
ORGANIZER;CN="Folkloreverein Gastlosest%C3%ACmmeg Jaun":MAILTO:info@gastlosestimmeg.ch
END:VEVENT
BEGIN:VEVENT
DTSTART;TZID=UTC:20240808T120000
DTEND;TZID=UTC:20240808T170000
DTSTAMP:20260425T195831
CREATED:20240503T160245Z
LAST-MODIFIED:20240503T162123Z
UID:1587-1723118400-1723136400@gastlosestimmeg.ch
SUMMARY:Freiburger Kinderchörlitreffen
DESCRIPTION:
URL:https://gastlosestimmeg.ch/auftritt/freiburger-kinderchoerlitreffen/
LOCATION:Oberer Euschels\, Obere Euschels 406\, Jaun\, Freiburg\, 1656\, Schweiz
CATEGORIES:Kinderjodler
ATTACH;FMTTYPE=image/png:https://gastlosestimmeg.ch/wp-content/uploads/2024/05/Kinderchoerlitreffen.png
END:VEVENT
END:VCALENDAR