BEGIN:VCALENDAR
VERSION:2.0
PRODID:-//Gastlosestìmmeg - ECPv6.15.20//NONSGML v1.0//EN
CALSCALE:GREGORIAN
METHOD:PUBLISH
X-WR-CALNAME:Gastlosestìmmeg
X-ORIGINAL-URL:https://gastlosestimmeg.ch
X-WR-CALDESC:Veranstaltungen für Gastlosestìmmeg
REFRESH-INTERVAL;VALUE=DURATION:PT1H
X-Robots-Tag:noindex
X-PUBLISHED-TTL:PT1H
BEGIN:VTIMEZONE
TZID:UTC
BEGIN:STANDARD
TZOFFSETFROM:+0000
TZOFFSETTO:+0000
TZNAME:UTC
DTSTART:20240101T000000
END:STANDARD
END:VTIMEZONE
BEGIN:VEVENT
DTSTART;VALUE=DATE:20250620
DTEND;VALUE=DATE:20250623
DTSTAMP:20260424T223121
CREATED:20250204T190654Z
LAST-MODIFIED:20250605T182517Z
UID:1897-1750377600-1750636799@gastlosestimmeg.ch
SUMMARY:Bernisch-Kantonales Jodlerfest 2025 Lenk-St.Stephan
DESCRIPTION:Am Samstag\, 21. Juni 2025 treten drei Gruppen aus Jaun am Jodlerfest in der Lenk auf:Der Jodlerklub Chörblifluh um 14:30 Uhr in der Schulanlage Lenk\,die Kinderjodler um 16:00 Uhr in der KUSPO Lenk\,und natürlich dürfen auch die Eduwyss Meitleni nicht fehlen\, die um 17:50 Uhr im Schulhaus einen Naturjutz zum Besten geben.Ein schöner Anlass\, um unsere regionalen Stimmen inmitten vieler talentierter Formationen zu erleben. Wir freuen uns über alle\, die den Weg an die Lenk finden und einen Moment lang mit uns in die Welt des Jodels eintauchen.
URL:https://gastlosestimmeg.ch/auftritt/jodlerfest-lenk-st-stephan/
CATEGORIES:Kinderjodler
ATTACH;FMTTYPE=image/png:https://gastlosestimmeg.ch/wp-content/uploads/2025/02/logo_jodlerfest_lenk_ststephan-scaled.png
END:VEVENT
BEGIN:VEVENT
DTSTART;VALUE=DATE:20250627
DTEND;VALUE=DATE:20250630
DTSTAMP:20260424T223121
CREATED:20250207T081331Z
LAST-MODIFIED:20250605T183008Z
UID:1905-1750982400-1751241599@gastlosestimmeg.ch
SUMMARY:Zentralschweizerisches Jodlerfest 2025 in Menznau
DESCRIPTION:Am Freitag\, 28. Juni 2025 ist unsere Jodlergruppe Gastlosekläng am Zentralschweizer Jodlerfest in Menznau mit dabei.Mit Freude und Herzblut bringen wir ein Stück Jauner Bergwelt in die Innerschweiz.Wir freuen uns über alle\, die unseren Auftritt besuchen und die Gastlosekläng vor Ort unterstützen – sei es als stille Geniesser oder begeisterte Mitfiebernde.
URL:https://gastlosestimmeg.ch/auftritt/jodlerfest-menznau-2025/
LOCATION:Menznau
CATEGORIES:JG Gastlosekläng
ATTACH;FMTTYPE=image/png:https://gastlosestimmeg.ch/wp-content/uploads/2025/02/logo-hoch-1.png
END:VEVENT
END:VCALENDAR