BEGIN:VCALENDAR
VERSION:2.0
PRODID:-//Gastlosestìmmeg - ECPv6.15.20//NONSGML v1.0//EN
CALSCALE:GREGORIAN
METHOD:PUBLISH
X-ORIGINAL-URL:https://gastlosestimmeg.ch
X-WR-CALDESC:Veranstaltungen für Gastlosestìmmeg
REFRESH-INTERVAL;VALUE=DURATION:PT1H
X-Robots-Tag:noindex
X-PUBLISHED-TTL:PT1H
BEGIN:VTIMEZONE
TZID:UTC
BEGIN:STANDARD
TZOFFSETFROM:+0000
TZOFFSETTO:+0000
TZNAME:UTC
DTSTART:20240101T000000
END:STANDARD
END:VTIMEZONE
BEGIN:VEVENT
DTSTART;VALUE=DATE:20250816
DTEND;VALUE=DATE:20250817
DTSTAMP:20260424T174159
CREATED:20250207T081931Z
LAST-MODIFIED:20250605T190602Z
UID:1909-1755302400-1755388799@gastlosestimmeg.ch
SUMMARY:Internationales Folkloretreffen Fribourg
DESCRIPTION:Am Freitag\, 16. August 2025 ist unsere Jodlergruppe Gastlosekläng am Rencontre Folklorique Internationale (RFI) in Freiburg mit dabei.Ein Festival\, das die Welt der Volkskulturen zusammenbringt – wir freuen uns\, Teil dieses vielfältigen Austauschs zu sein und die Klänge aus Jaun auch dort erklingen zu lassen.Schön\, wenn ihr mit uns diesen besonderen Auftritt erlebt!
URL:https://gastlosestimmeg.ch/auftritt/rfi-2026/
LOCATION:Fribourg\, Place Georges Python
CATEGORIES:JG Gastlosekläng
ATTACH;FMTTYPE=image/png:https://gastlosestimmeg.ch/wp-content/uploads/2025/02/Logo-RFIBLANC_inverted.png
END:VEVENT
END:VCALENDAR