BEGIN:VCALENDAR
VERSION:2.0
PRODID:-//Gastlosestìmmeg - ECPv6.15.20//NONSGML v1.0//EN
CALSCALE:GREGORIAN
METHOD:PUBLISH
X-WR-CALNAME:Gastlosestìmmeg
X-ORIGINAL-URL:https://gastlosestimmeg.ch
X-WR-CALDESC:Veranstaltungen für Gastlosestìmmeg
REFRESH-INTERVAL;VALUE=DURATION:PT1H
X-Robots-Tag:noindex
X-PUBLISHED-TTL:PT1H
BEGIN:VTIMEZONE
TZID:UTC
BEGIN:STANDARD
TZOFFSETFROM:+0000
TZOFFSETTO:+0000
TZNAME:UTC
DTSTART:20240101T000000
END:STANDARD
END:VTIMEZONE
BEGIN:VEVENT
DTSTART;TZID=UTC:20251101T200000
DTEND;TZID=UTC:20251101T230000
DTSTAMP:20260424T112812
CREATED:20250207T083509Z
LAST-MODIFIED:20251013T090343Z
UID:1914-1762027200-1762038000@gastlosestimmeg.ch
SUMMARY:Unterhaltungsabend Gastlosestìmmeg
DESCRIPTION:Am 1. November findet wieder unser alljährlichen Unterhaltungsabend statt.
URL:https://gastlosestimmeg.ch/auftritt/unterhaltungsabend-gastlosestimmeg/
LOCATION:Schulaussaal Jaun\, Dorfstrasse 8\, Jaun\, Freiburg\, 1656\, Schweiz
CATEGORIES:Gastlosestìmmeg
ORGANIZER;CN="Folkloreverein Gastlosest%C3%ACmmeg Jaun":MAILTO:info@gastlosestimmeg.ch
END:VEVENT
BEGIN:VEVENT
DTSTART;TZID=UTC:20251114T190000
DTEND;TZID=UTC:20251114T190000
DTSTAMP:20260424T112812
CREATED:20250605T173906Z
LAST-MODIFIED:20250710T113128Z
UID:1999-1763146800-1763146800@gastlosestimmeg.ch
SUMMARY:Jetz singe mer eis
DESCRIPTION:«jetz singe mer eis – LIVE» Ein Mitsing-Fest für alle \n«jetz singe mer eis» geht live: Ein Fest für alle\, die gern unbeschwert und gemeinsam mit andern Schweizer Volkslieder singen. Auf der Bühne: Die «jetz singe mer eis»-Band\, bestehen aus Marco Kunz\, Christoph Pfändler\, Adrian Würsch\, Michael Chylewski sowie Natascha und Maruschka Monney. \nEin Sing-Fest für alle – vom Grosi bis zum Enkel \n🎟️ Tickets sind im Vorverkauf erhältlich unter: Jetz singe mer eis \n«chantons ensemble – EN DIRECT» une fête pour chanter tous ensemble \n«chantons ensemble» ou «jetz singe mer eis» en Suisse alémanique – EN DIRECT – est une fête pour tous ceux qui aiment chanter des chansons populaires suisses en toute insouciance et avec d’autres. Sur scène: le groupe «chantons ensemble» composé de Marco Kunz\, Christoph Pfändler\, Adrian Würsch\, Michael Chylewski ainsi que Natascha et Maruschka Monney. \nUne fête de la chanson pour tous et toutes – des grands-parents aux petits-enfants \n🎟️ Billets en prévente sur: chantons ensemble \n 
URL:https://gastlosestimmeg.ch/auftritt/jetz-singe-mer-eis/
LOCATION:Schulaussaal Jaun\, Dorfstrasse 8\, Jaun\, Freiburg\, 1656\, Schweiz
CATEGORIES:Gastlosestìmmeg,Kinderjodler
ATTACH;FMTTYPE=image/jpeg:https://gastlosestimmeg.ch/wp-content/uploads/2025/06/jsme-Live-1_col-broad-1.jpg
ORGANIZER;CN="Folkloreverein Gastlosest%C3%ACmmeg Jaun":MAILTO:info@gastlosestimmeg.ch
END:VEVENT
BEGIN:VEVENT
DTSTART;TZID=UTC:20251129T200000
DTEND;TZID=UTC:20251129T230000
DTSTAMP:20260424T112812
CREATED:20250412T082349Z
LAST-MODIFIED:20250412T082349Z
UID:1945-1764446400-1764457200@gastlosestimmeg.ch
SUMMARY:JG Gastlosekläng- Jodlerabend Jodlerchörli Degersheim
DESCRIPTION:Am 29.11.2025 darf die Jodlergruppe Gastlosekläng beim Unterhaltungsabend vom Jodlerchörli Degersheim mitwirken. Wir freuen uns auf den Abend im Toggenburg.
URL:https://gastlosestimmeg.ch/auftritt/jg-gastloseklaeng-jodlerabend-jodlerchoerli-degersheim/
CATEGORIES:JG Gastlosekläng
END:VEVENT
END:VCALENDAR