BEGIN:VCALENDAR
VERSION:2.0
PRODID:-//Gastlosestìmmeg - ECPv6.15.20//NONSGML v1.0//EN
CALSCALE:GREGORIAN
METHOD:PUBLISH
X-WR-CALNAME:Gastlosestìmmeg
X-ORIGINAL-URL:https://gastlosestimmeg.ch
X-WR-CALDESC:Veranstaltungen für Gastlosestìmmeg
REFRESH-INTERVAL;VALUE=DURATION:PT1H
X-Robots-Tag:noindex
X-PUBLISHED-TTL:PT1H
BEGIN:VTIMEZONE
TZID:UTC
BEGIN:STANDARD
TZOFFSETFROM:+0000
TZOFFSETTO:+0000
TZNAME:UTC
DTSTART:20250101T000000
END:STANDARD
END:VTIMEZONE
BEGIN:VEVENT
DTSTART;VALUE=DATE:20260911
DTEND;VALUE=DATE:20260914
DTSTAMP:20260424T102634
CREATED:20260203T082533Z
LAST-MODIFIED:20260203T083017Z
UID:2368-1789084800-1789343999@gastlosestimmeg.ch
SUMMARY:1. eidgenössisches Jugendjodlerfest 2026 Grindelwald
DESCRIPTION:Vom 11.09. – 13.09.2026 findet das 1. eidgenössische Jugendjodlerfest in Grindelwald statt. \nDie Jodlergruppe Gastlosekläng darf am Freitag am Unterhaltungsabend einige Lieder zum besten geben. \nAm Samstag wird das Kinderjodlerchörli „de Bärge zue“ in Grindelwald anwesend sein. Wir freuen uns auf eure Unterstützung. Weitere Infos folgen…
URL:https://gastlosestimmeg.ch/auftritt/1-eidgenoessisches-jugendjodlerfest-2026-grindelwald-2/
LOCATION:Grindelwald
CATEGORIES:jodlerfest,Kinderjodler
END:VEVENT
END:VCALENDAR