BEGIN:VCALENDAR
VERSION:2.0
PRODID:-//Gastlosestìmmeg - ECPv6.15.20//NONSGML v1.0//EN
CALSCALE:GREGORIAN
METHOD:PUBLISH
X-ORIGINAL-URL:https://gastlosestimmeg.ch
X-WR-CALDESC:Veranstaltungen für Gastlosestìmmeg
REFRESH-INTERVAL;VALUE=DURATION:PT1H
X-Robots-Tag:noindex
X-PUBLISHED-TTL:PT1H
BEGIN:VTIMEZONE
TZID:UTC
BEGIN:STANDARD
TZOFFSETFROM:+0000
TZOFFSETTO:+0000
TZNAME:UTC
DTSTART:20250101T000000
END:STANDARD
END:VTIMEZONE
BEGIN:VEVENT
DTSTART;TZID=UTC:20261107T200000
DTEND;TZID=UTC:20261107T230000
DTSTAMP:20260424T133445
CREATED:20260203T085713Z
LAST-MODIFIED:20260203T085713Z
UID:2373-1794081600-1794092400@gastlosestimmeg.ch
SUMMARY:Jodlerabend in Giswil
DESCRIPTION:Am 7. November 2026 darf die Jodlergruppe Gastlosekläng als Gastformation beim Jodlerabend des Jodlerklubs Giswil mitwirken.
URL:https://gastlosestimmeg.ch/auftritt/jodlerabend-in-giswil/
CATEGORIES:JG Gastlosekläng
END:VEVENT
BEGIN:VEVENT
DTSTART;TZID=UTC:20261113T200000
DTEND;TZID=UTC:20261113T230000
DTSTAMP:20260424T133445
CREATED:20260203T090318Z
LAST-MODIFIED:20260203T090318Z
UID:2375-1794600000-1794610800@gastlosestimmeg.ch
SUMMARY:Unterhaltungsabend mit dem Nachwuchs der Gastlosestimmeg
DESCRIPTION:Wir laden Sie herzlich zu unserem Unterhaltungsabend mit dem Nachwuchs der Gastlosestìmmeg am 13. November 2026 ein!
URL:https://gastlosestimmeg.ch/auftritt/unterhaltungsabend-mit-dem-nachwuchs-der-gastlosestimmeg/
LOCATION:Schulaussaal Jaun\, Dorfstrasse 8\, Jaun\, Freiburg\, 1656\, Schweiz
CATEGORIES:Gastlosestìmmeg,JG Gastlosekläng,Kinderjodler,Nachwuchsörgeler,Unterhaltungsabend
END:VEVENT
BEGIN:VEVENT
DTSTART;TZID=UTC:20261114T200000
DTEND;TZID=UTC:20261114T230000
DTSTAMP:20260424T133445
CREATED:20260203T090540Z
LAST-MODIFIED:20260203T091436Z
UID:2377-1794686400-1794697200@gastlosestimmeg.ch
SUMMARY:Unterhaltungsabend Folkloreverein Gastlosestimmeg
DESCRIPTION:Am 14. November findet wieder unser alljährlichen Unterhaltungsabend statt!
URL:https://gastlosestimmeg.ch/auftritt/unterhaltungsabend-folkloreverein-gastlosestimmeg/
LOCATION:Schulaussaal Jaun\, Dorfstrasse 8\, Jaun\, Freiburg\, 1656\, Schweiz
CATEGORIES:Gastlosestìmmeg,JG Gastlosekläng,Kinderjodler,Nachwuchsörgeler,Unterhaltungsabend
END:VEVENT
END:VCALENDAR