BEGIN:VCALENDAR
VERSION:2.0
PRODID:-//Gastlosestìmmeg - ECPv6.15.20//NONSGML v1.0//EN
CALSCALE:GREGORIAN
METHOD:PUBLISH
X-WR-CALNAME:Gastlosestìmmeg
X-ORIGINAL-URL:https://gastlosestimmeg.ch
X-WR-CALDESC:Veranstaltungen für Gastlosestìmmeg
REFRESH-INTERVAL;VALUE=DURATION:PT1H
X-Robots-Tag:noindex
X-PUBLISHED-TTL:PT1H
BEGIN:VTIMEZONE
TZID:UTC
BEGIN:STANDARD
TZOFFSETFROM:+0000
TZOFFSETTO:+0000
TZNAME:UTC
DTSTART:20260101T000000
END:STANDARD
END:VTIMEZONE
BEGIN:VEVENT
DTSTART;TZID=UTC:20270115T200000
DTEND;TZID=UTC:20270115T230000
DTSTAMP:20260424T163920
CREATED:20260203T091909Z
LAST-MODIFIED:20260203T091909Z
UID:2382-1800043200-1800054000@gastlosestimmeg.ch
SUMMARY:Jodlerabend beim Jodlerklub Grosshöchstetten
DESCRIPTION:Am Samstag 15.01.2027 ist die Jodlergruppe Gastlosekläng als Gastformation beim Jodlerklub Grosshöchstetten eingeladen.
URL:https://gastlosestimmeg.ch/auftritt/jodlerabend-beim-jodlerklub-grosshoechstetten/
CATEGORIES:JG Gastlosekläng
END:VEVENT
END:VCALENDAR